BEGIN:VCALENDAR
VERSION:2.0
PRODID:-//SWAMI PUROHIT WELLNESS - ECPv6.15.12.2//NONSGML v1.0//EN
CALSCALE:GREGORIAN
METHOD:PUBLISH
X-ORIGINAL-URL:https://swamipurohit.com
X-WR-CALDESC:Eventos para SWAMI PUROHIT WELLNESS
REFRESH-INTERVAL;VALUE=DURATION:PT1H
X-Robots-Tag:noindex
X-PUBLISHED-TTL:PT1H
BEGIN:VTIMEZONE
TZID:UTC
BEGIN:STANDARD
TZOFFSETFROM:+0000
TZOFFSETTO:+0000
TZNAME:UTC
DTSTART:20250101T000000
END:STANDARD
END:VTIMEZONE
BEGIN:VEVENT
DTSTART;TZID=UTC:20260425T090000
DTEND;TZID=UTC:20260426T140000
DTSTAMP:20260426T033322
CREATED:20251211T175438Z
LAST-MODIFIED:20251211T175438Z
UID:10000696-1777107600-1777212000@swamipurohit.com
SUMMARY:Viviendo Los Yoga Sutras: Curso Avanzado
DESCRIPTION:Los Yoga Sutras de Patanjali – Curso Avanzado:\nViviendo Los Yoga Sutras\nEste curso está diseñado para alumnos que han completado los 7 años de formación de Kriya Yoga Avanzado con Sri Swami Purohit.\n\nCAMBIO DE LUGAR: SABADO 25 DE ABRIL\nEl sábado 25 de abril este curso tendrá lugar en el Polideportivo Bola de Oro\, Granada. Horario 9 a 14h \nEl domingo 26 de abril\, el curso se hará en el Hotel Macia Real de la Alhambra\, Granada. \nDisculpan las molestias. \n  \nCurso Avanzado de los Yoga Sutras: Viviendo Los Yoga Sutras \nHace más de 2.000 años\, el gran sabio Patanjali reunió los Yoga Sutras; el primero texto escrito sobre el yoga. Esta eterna obra maestra es la base de todo el conocimiento yóguico\, ofreciendo no solo prácticas físicas\, sino una filosofía completa para dominar la mente\, conseguir la paz interior y alcanzar tu máximo potencial. \nLos Yoga Sutras de Patanjali son una recopilación de 195 enseñanzas para practicar y desarrollar el cuerpo\, la mente y la conexión con el alma. Se consideran el primer manual de yoga jamás escrito\, y forman la base teórica y filosófica del yoga\, haciendo hincapié en el control de la mente\, la liberación y el conocimiento transcendental. \nLos Yoga Sutras fueron escritos en una épica en la que las personas llevaban vidas físicamente activas. Esto explica por qué Patanjali escribió estos sutras como un medio para lograr concentración y desarrollo personal\, permitiendo a los practicantes ir más allá del plano puramente físico. \nEn definitiva\, los Yoga Sutras fueron escritos para la purificación de la mente. \n¿A quién va dirigido este curso? \nEste curso está diseñado para alumnos avanzados que buscan profundizar en su práctica del yoga y aplicar los principios de los Yoga Sutras en su vida cotidiana. \nLo que obtendrás con este curso \nA través del estudio\, la práctica y la aplicación diaria\, podrás: \n\nDescubrir nuevos conocimientos que apoyen tu crecimiento interior y exterior.\nDesarrollar el dominio de la mente.\nExperimentar el Samadhi: el estado de conciencia meditativa.\n\nEnfoque del curso: Viviendo Los Yoga Sutras: \nLos Yoga Sutras no están hechos solo para estudiarlos\, sino también para vivirlos. \nAplicar las 195 herramientas de transformación en la vida cotidiana requiere una guía. \nUn maestro no solo transmite conocimiento\, sino que también lo personifica\, ofreciendo un ejemplo de cómo estos principios pueden asentarse en la vida cotidiana. \nCualquiera puede leer el texto\, pero su significado más profundo solo se revela mediante la práctica dedicada y bajo la luz de una instrucción verdadera. Al vivir estas enseñanzas\, se reduce el conflicto\, las decisiones se vuelven más claras y la vida se guía por un discernimiento sereno. \nAl aplicar los Yoga Sutras en la vida diaria\, encontrarás menos conflicto y serás capaz de tomar decisiones informadas cuando surjan dificultades. \nLos Yoga Sutras te enseñan a desarrollar la mente para seguir completamente tus directrices: el dominio se alcanza mediante la disciplina y la fidelidad a las reglas. \nEste curso ofrece una metodología práctica para reconocer lo que falta en tu vida\, y cómo encontrar equilibrio mediante el desarrollo de habilidades esenciales: \n\nClaridad de pensamiento y toma de decisiones.\nConciencia y uso del tiempo como un recurso sagrado.\nLa disciplina para alinear la acción con el propósito interior.\n\nTu camino: \nSiguiendo y completando las enseñanzas con sinceridad y comprometiéndote con la práctica diaria requerida\, experimentarás el estado de Samadhi. \nSamadhi es un estado de alegría\, de conciencia meditativa\, donde no hay preguntas; todas tus dudas e inquietudes se han resuelto. \nEn este estado\, nada puede interrumpirte sin tu consentimiento. Este es el objetivo final del curso: experimentar\, por voluntad propia\, la serenidad de una mente en paz. \nEstructura del curso: \n\nDuración del curso: 24 meses. Una sesión al mes.\nLa modalidad presencial se hará un fin de semana al mes en Granada: sábado de 09:00 a 14:30 y domingo de 09:00 a 14:00.\nLa modalidad online se publicará una semana después\, en formato de vídeo con todo el contenido de las sesiones en directo.\nLa práctica diaria en casa de 1 a 2 horas es una parte esencial del curso.\nSoporte por email de parte de Swami y su equipo para cualquier duda o pregunta.\n\nInformación práctica: \nFecha de inicio del curso: 22 y 23 de noviembre de 2025. \nLugar: Hotel Macia Real de la Alhambra\, Granada. \nPrecio: 110 euros por persona al mes. Opción de pagar por adelantado un módulo de 6 meses y recibir un 20% de descuento. \n\nEl curso presencial se realizará un fin de semana al mes: sábado de 09:00 a 14:30 y domingo de 09:00 a 14:00.\nTodas las fechas para 2025/2026 están disponibles en el Calendario de Eventos de nuestra web.\nEl precio incluye un PDF descargable con la práctica diaria\, que se envía a los alumnos por email unos días después de cada curso.\nLos alumnos del curso presencial recibirán un código de descuento para descargar la versión online por solo 10€\, y así poder verla cuando deseen.\n\nInformación para los alumnos que elijan la versión online del curso: \nLa versión online se publicará una semana después del curso presencial\, con vídeos grabados que contienen el curso completo de fin de semana y un PDF descargable con la práctica diaria para hacer en casa. \nLa versión online tiene un precio de 80 euros por persona al mes. El pago se realiza mensualmente al acceder al contenido. \nUna vez que compres la versión online\, tendrás acceso a los vídeos de por vida. \nElige tu formato: presencial u online: \nEntendemos que no todo el mundo puede viajar a Granada un fin de semana cada mes. Es por esto por lo que hemos creado el formato online\, que se puede hacer desde casa y en cualquier momento. \nOtra opción es combinar los formatos; asistir de manera presencial cuando sea posible y hacerlo online cuando no lo sea. \nCada mes puedes elegir la opción que mejor se adapte a ti y a tus circunstancias. Mientras termines cada sesión y hagas la práctica todos los días\, notarás los beneficios del curso a medida que avance. \nTanto si te unes en persona en Granada\, como si sigues las enseñanzas desde casa\, la esencia del curso sigue siendo la misma. Lo más importante es la constancia; asistir a cada sesión y dedicarte a la práctica diaria. \nEl camino de los Yoga Sutras es un viaje hacia el interior. Con paciencia\, guía y devoción las enseñanzas se revelan de forma natural\, llevándote paso a paso hacia la libertad interior. \n¿Te interesa este curso? \nPara reservar tu plaza o solicitar más información\, escríbenos por email o WhatsApp y nos pondremos en contacto contigo. \ninfo@swamipurohit.com \n+34 692 15 13 51 \nContacto: Kate
URL:https://swamipurohit.com/eventos/viviendo-los-yoga-sutras-curso-avanzado-12/
LOCATION:Hotel Macía Real de La Alhambra\, C/ Mirador del Genil\, 2\, Granada\, Granada\, 18008
ATTACH;FMTTYPE=image/jpeg:https://swamipurohit.com/wp-content/uploads/2023/05/Swami-mobile-portada2.jpg
ORGANIZER;CN="Sri Purohit Swami Wellness":MAILTO:info@swamipurohit.com
END:VEVENT
END:VCALENDAR